BEGIN:VCALENDAR
VERSION:2.0
PRODID:-//K&Eacute;K BAJUSZ - ECPv4.6.19//NONSGML v1.0//EN
CALSCALE:GREGORIAN
METHOD:PUBLISH
X-WR-CALNAME:K&Eacute;K BAJUSZ
X-ORIGINAL-URL:http://kekbajusz.hu
X-WR-CALDESC:Events for K&Eacute;K BAJUSZ
BEGIN:VEVENT
DTSTART;TZID=UTC+0:20201121T140000
DTEND;TZID=UTC+0:20201121T190000
DTSTAMP:20260425T102658
CREATED:20200901T113248Z
LAST-MODIFIED:20201101T174730Z
UID:2373-1605967200-1605985200@kekbajusz.hu
SUMMARY:Karácsonyi képeslap festés
DESCRIPTION:ALKOTÓNAP: min.3 – max. 6 fő \nKarácsonyi képeslap festés \n\nNovember 21. (szombat) 14.00 – 19.00\n\nÁra:     6000 Ft – eszközök biztosításával\, az elkészített képeslapok elvihetőek \n
URL:http://kekbajusz.hu/event/2373/
ORGANIZER;CN="M%C3%A1th%C3%A9%20T%C3%BCnde":MAILTO:mathetunde5@gmail.com
END:VEVENT
END:VCALENDAR