BEGIN:VCALENDAR
VERSION:2.0
PRODID:-//K&Eacute;K BAJUSZ - ECPv4.6.19//NONSGML v1.0//EN
CALSCALE:GREGORIAN
METHOD:PUBLISH
X-WR-CALNAME:K&Eacute;K BAJUSZ
X-ORIGINAL-URL:http://kekbajusz.hu
X-WR-CALDESC:Events for K&Eacute;K BAJUSZ
BEGIN:VEVENT
DTSTART;TZID=UTC+0:20230104T090000
DTEND;TZID=UTC+0:20230106T153000
DTSTAMP:20260422T000613
CREATED:20221121T193406Z
LAST-MODIFIED:20221121T194705Z
UID:2938-1672822800-1673019000@kekbajusz.hu
SUMMARY:Jobb agyféltekés rajzolás (12 éves kortól + felnőtt)
DESCRIPTION:A rajzoláshoz minden eszközt én biztosítok.\n\nAmit jó\, ha hozol magaddal:\n– energiapótló ennivaló ( lehet\, hideg\, meleg\, hűtőzni\, melegíteni tudunk )\n– jókedv\, hogy sokat nevessünk\n– kitartás\, hiszen rengeteget fogunk rajzolni\, ám a végén a befektetett munka meghozza gyümölcsét\n– kedvenc játékod\n\nIdőpont: \n2023. január 04 – 06. (szerda – péntek) 9.00 – kb.15.30 \n\n( 12 éves kortól + felnőtt) \nÁra: \n27 000 Ft /fő /3 nap ( ha egyedül érkezel )\n25 000 Ft /fő /3 nap ( ha hozol családtagot\, barátot\, ismerőst )\nAz ár tartalmazza a rajzolás eszközeit\, ennivalóról mindenki magának gondoskodik. \n
URL:http://kekbajusz.hu/event/2938/
ORGANIZER;CN="M%C3%A1th%C3%A9%20T%C3%BCnde":MAILTO:mathetunde5@gmail.com
END:VEVENT
END:VCALENDAR