BEGIN:VCALENDAR
VERSION:2.0
PRODID:-//K&Eacute;K BAJUSZ - ECPv4.6.19//NONSGML v1.0//EN
CALSCALE:GREGORIAN
METHOD:PUBLISH
X-WR-CALNAME:K&Eacute;K BAJUSZ
X-ORIGINAL-URL:http://kekbajusz.hu
X-WR-CALDESC:Events for K&Eacute;K BAJUSZ
BEGIN:VEVENT
DTSTART;TZID=UTC+0:20191221T100000
DTEND;TZID=UTC+0:20191221T170000
DTSTAMP:20260424T191010
CREATED:20190907T175358Z
LAST-MODIFIED:20190907T175358Z
UID:1766-1576922400-1576947600@kekbajusz.hu
SUMMARY:Alkotónap
DESCRIPTION:Az alap ( vagy színes ) tanfolyamon tanultak felelevenítése\, gyakorlása\, továbbhaladás a rajztanulás útján egyéni igények alapján. \n\nrajzolás\nszínes technikák (pasztell\, akril\, akvarell) gyakorlása\núj technikák kipróbálása\nszabad alkotás\n\nÁra: 5 000 Ft/nap – eszközök nélkül \n7 000 Ft/nap – eszközök biztosításával \n
URL:http://kekbajusz.hu/event/alkotonap-5/
ORGANIZER;CN="M%C3%A1th%C3%A9%20T%C3%BCnde":MAILTO:mathetunde5@gmail.com
END:VEVENT
END:VCALENDAR