BEGIN:VCALENDAR
VERSION:2.0
PRODID:-//K&Eacute;K BAJUSZ - ECPv4.6.19//NONSGML v1.0//EN
CALSCALE:GREGORIAN
METHOD:PUBLISH
X-WR-CALNAME:K&Eacute;K BAJUSZ
X-ORIGINAL-URL:http://kekbajusz.hu
X-WR-CALDESC:Events for K&Eacute;K BAJUSZ
BEGIN:VEVENT
DTSTART;TZID=UTC+0:20200926T093000
DTEND;TZID=UTC+0:20200926T163000
DTSTAMP:20260424T051028
CREATED:20200901T112439Z
LAST-MODIFIED:20200901T112615Z
UID:2367-1601112600-1601137800@kekbajusz.hu
SUMMARY:Alkotónap
DESCRIPTION:ALKOTÓNAPOK: min.3 – max. 6 fő\nrajz\, pasztell\, akril\, akvarell gyakorlás\, új technikák megismerése\, szabad alkotás \n\nSzeptember 26. (szombat) 9.30 – 16.30\nNovember 07. (szombat) 9.30 – 16.30\n\nÁra:     7 000 Ft/nap – grafika ill. színes (általad hozott eszközökkel) \n            10 000 Ft/nap – színes (eszközöket én biztosítom) \n\nNovember 28. (szombat) 14.00 – 19.00 (karácsonyi képeslap festés)\n\nÁra:     6000 Ft – eszközök biztosításával\, az elkészített képeslapok elvihetőek \n
URL:http://kekbajusz.hu/event/alkotonap-6/
ORGANIZER;CN="M%C3%A1th%C3%A9%20T%C3%BCnde":MAILTO:mathetunde5@gmail.com
END:VEVENT
END:VCALENDAR