BEGIN:VCALENDAR
VERSION:2.0
PRODID:-//K&Eacute;K BAJUSZ - ECPv4.6.19//NONSGML v1.0//EN
CALSCALE:GREGORIAN
METHOD:PUBLISH
X-WR-CALNAME:K&Eacute;K BAJUSZ
X-ORIGINAL-URL:http://kekbajusz.hu
X-WR-CALDESC:Events for K&Eacute;K BAJUSZ
BEGIN:VEVENT
DTSTART;TZID=UTC+0:20220826T090000
DTEND;TZID=UTC+0:20220826T160000
DTSTAMP:20260422T034113
CREATED:20220709T211817Z
LAST-MODIFIED:20220816T180951Z
UID:2778-1661504400-1661529600@kekbajusz.hu
SUMMARY:Alkotónap 8-12 éves gyerekeknek
DESCRIPTION:\naugusztus 22. (hétfő) 9.00 – 16.00 óra között – 8-12 éves gyerekeknek\n\n– Ára: 8 500 Ft/alkalom   ( grafika és színes – saját eszközökkel)\nKérlek hozd magaddal azokat az eszközöket\, amivel alkotni szeretnél. \n– 10 000 Ft/alkalom   ( színes – eszközök biztosításával\, kivétel vászon)\nHa nincs eszközöd\, akkor biztosítom számodra. \nÉtkezésről mindenki magának gondoskodik. \n
URL:http://kekbajusz.hu/event/alkotonap-8-12-eves-gyerekeknek/
ORGANIZER;CN="M%C3%A1th%C3%A9%20T%C3%BCnde":MAILTO:mathetunde5@gmail.com
END:VEVENT
END:VCALENDAR