BEGIN:VCALENDAR
VERSION:2.0
PRODID:-//K&Eacute;K BAJUSZ - ECPv4.6.19//NONSGML v1.0//EN
CALSCALE:GREGORIAN
METHOD:PUBLISH
X-WR-CALNAME:K&Eacute;K BAJUSZ
X-ORIGINAL-URL:http://kekbajusz.hu
X-WR-CALDESC:Events for K&Eacute;K BAJUSZ
BEGIN:VEVENT
DTSTART;TZID=UTC+0:20211120T093000
DTEND;TZID=UTC+0:20211120T163000
DTSTAMP:20260422T193805
CREATED:20211107T120826Z
LAST-MODIFIED:20211130T191100Z
UID:2704-1637400600-1637425800@kekbajusz.hu
SUMMARY:Alkotónap
DESCRIPTION:Szombat ebéd utáni szieszta!\nAdj Magadnak pár órát\, pihentesd bal agyféltekédet\, hagyd kint a gondokat és relaxálj\, s közben csodálatos alkotás kerül ki kezeid közül!  \nTematika: \nA jobb agyféltekés alap tanfolyamot végzettek számára: \n\nelmélyítjük az alap tanfolyamon tanult ismereteket\nmegismerünk új technikákat\nelkezdünk térből rajzolni tárgyakat\, csendéleteket\, később az egyéni fejlődést látva\, emberi alakot\, portrét\n\nA színes alap tanfolyamot végzettek számára: \n\nelmélyítjük a színes tanfolyamon tanult ismereteket\nmegismerünk új technikákat\nelkezdünk térből alkotni különböző színes technikákkal\n\nAlap tanfolyamot nem végzettek is jöhetnek. Számukra a tematika egyéni képzettség szerint alakul. \n\nRajzolás\nPasztellezés\nAkril festés\nSzobrászkodás\n\nLeld kedved az alkotásban! Hozd el kedvenc képedet kinyomtatva\, legalább A/4-es méretben (portré\, tájkép\, festmény stb.)\, hogy elkészíthesd Magadnak! \nIdőpont: (Előzetes bejelentkezés szükséges!) \n2021. november 20. ( 9.30 – 16.30 óra között ) \n– Ára: 8 000 Ft/alkalom   ( grafika és színes – saját eszközökkel)\nKérlek hozd magaddal azokat az eszközöket\, amivel alkotni szeretnél. \n– 10 000 Ft/alkalom   ( színes – eszközök biztosításával\, kivétel vászon)\nHa nincs eszközöd\, akkor biztosítom számodra. \n
URL:http://kekbajusz.hu/event/alkotonap-8/
ORGANIZER;CN="M%C3%A1th%C3%A9%20T%C3%BCnde":MAILTO:mathetunde5@gmail.com
END:VEVENT
END:VCALENDAR