BEGIN:VCALENDAR
VERSION:2.0
PRODID:-//K&Eacute;K BAJUSZ - ECPv4.6.19//NONSGML v1.0//EN
CALSCALE:GREGORIAN
METHOD:PUBLISH
X-WR-CALNAME:K&Eacute;K BAJUSZ
X-ORIGINAL-URL:http://kekbajusz.hu
X-WR-CALDESC:Events for K&Eacute;K BAJUSZ
BEGIN:VEVENT
DTSTART;TZID=UTC+0:20211212T093000
DTEND;TZID=UTC+0:20211212T163000
DTSTAMP:20260422T162150
CREATED:20211130T191005Z
LAST-MODIFIED:20211130T191237Z
UID:2714-1639301400-1639326600@kekbajusz.hu
SUMMARY:Alkotónap
DESCRIPTION:Leld kedved az alkotásban! Hozd el kedvenc képedet kinyomtatva\, legalább A/4-es méretben (portré\, tájkép\, festmény stb.)\, hogy elkészíthesd Magadnak! \nIdőpontok: (Előzetes bejelentkezés szükséges!) \n2021. \n\ndecember 12. (vasárnap) 9.30 – 16.30 óra között\n\n– Ára: 8 000 Ft/alkalom   ( grafika és színes – saját eszközökkel)\nKérlek hozd magaddal azokat az eszközöket\, amivel alkotni szeretnél. \n– 10 000 Ft/alkalom   ( színes – eszközök biztosításával\, kivétel vászon)\nHa nincs eszközöd\, akkor biztosítom számodra. \n
URL:http://kekbajusz.hu/event/alkotonap-9/
ORGANIZER;CN="M%C3%A1th%C3%A9%20T%C3%BCnde":MAILTO:mathetunde5@gmail.com
END:VEVENT
END:VCALENDAR