BEGIN:VCALENDAR
VERSION:2.0
PRODID:-//K&Eacute;K BAJUSZ - ECPv4.6.19//NONSGML v1.0//EN
CALSCALE:GREGORIAN
METHOD:PUBLISH
X-WR-CALNAME:K&Eacute;K BAJUSZ
X-ORIGINAL-URL:http://kekbajusz.hu
X-WR-CALDESC:Events for K&Eacute;K BAJUSZ
BEGIN:VEVENT
DTSTART;TZID=UTC+0:20180810T090000
DTEND;TZID=UTC+0:20180812T170000
DTSTAMP:20260425T210826
CREATED:20180706T111655Z
LAST-MODIFIED:20181015T093021Z
UID:874-1533891600-1534093200@kekbajusz.hu
SUMMARY:Családi rajzolás 12-99 éveseknek
DESCRIPTION:Közös élmény a gyerekeknek és a szülőknek! Rajzoljatok együtt! \n\nA tanfolyamon olyan ismereteket tanultok meg\, melyek segítségével képesek lesztek élethű rajzokat készíteni. És nem is akármilyet!\n\nA rajzoláshoz minden eszközt én biztosítok.\n\nAmit jó\, ha hoztok magatokkal:\n– energiapótló ennivaló ( lehet\, hideg\, meleg\, hűtőzni\, melegíteni tudunk )\n– jókedv\, hogy sokat nevessünk \n– kitartás\, hiszen rengeteget fogunk rajzolni\, ám a végén a befektetett munka meghozza gyümölcsét\n– kedvenc játék       \n\nÁra: 19 000 Ft/ fő ( ha valaki egyedül érkezik )\n      18 000 Ft/ fő ( két fő esetén )\n        17 500 Ft/ fő ( 3 főtől )\n
URL:http://kekbajusz.hu/event/csaladi-rajzolas-12-99-eveseknek/
ORGANIZER;CN="M%C3%A1th%C3%A9%20T%C3%BCnde":MAILTO:mathetunde5@gmail.com
END:VEVENT
END:VCALENDAR