BEGIN:VCALENDAR
VERSION:2.0
PRODID:-//K&Eacute;K BAJUSZ - ECPv4.6.19//NONSGML v1.0//EN
CALSCALE:GREGORIAN
METHOD:PUBLISH
X-WR-CALNAME:K&Eacute;K BAJUSZ
X-ORIGINAL-URL:http://kekbajusz.hu
X-WR-CALDESC:Events for K&Eacute;K BAJUSZ
BEGIN:VEVENT
DTSTART;TZID=UTC+0:20191227T090000
DTEND;TZID=UTC+0:20191229T183000
DTSTAMP:20260424T172659
CREATED:20190907T175843Z
LAST-MODIFIED:20191106T140101Z
UID:1768-1577437200-1577644200@kekbajusz.hu
SUMMARY:Jobb agyféltekés alap rajztanfolyam (12 éves kortól)
DESCRIPTION:A tanfolyamon olyan ismereteket tanulsz meg\, melynek segítségével képes leszel élethű rajzokat készíteni.\n\nÉs nem is akármilyet!\n\nA rajzoláshoz minden eszközt én biztosítok.\n\nAmit jó\, ha hozol magaddal:\n– energiapótló ennivaló ( lehet\, hideg\, meleg\, hűtőzni\, melegíteni tudunk )\n– jókedv\, hogy sokat nevessünk\n– kitartás\, hiszen rengeteget fogunk rajzolni\, ám a végén a befektetett munka meghozza gyümölcsét\n– kedvenc játékod\n\nIdőpont: \n2019. december 27-29. (péntek – vasárnap ) 9.00 – kb. 16.30 \nÁra: \n21 000 Ft /fő /3 nap    \nAz ár tartalmazza a rajzoláshoz szükséges eszközöket\, nem tartalmazza az étkezést. \n\n
URL:http://kekbajusz.hu/event/jobb-agyfeltekes-alap-rajztanfolyam-12-eves-kortol-2/
ORGANIZER;CN="M%C3%A1th%C3%A9%20T%C3%BCnde":MAILTO:mathetunde5@gmail.com
END:VEVENT
END:VCALENDAR