BEGIN:VCALENDAR
VERSION:2.0
PRODID:-//K&Eacute;K BAJUSZ - ECPv4.6.19//NONSGML v1.0//EN
CALSCALE:GREGORIAN
METHOD:PUBLISH
X-WR-CALNAME:K&Eacute;K BAJUSZ
X-ORIGINAL-URL:http://kekbajusz.hu
X-WR-CALDESC:Events for K&Eacute;K BAJUSZ
BEGIN:VEVENT
DTSTART;TZID=UTC+0:20200409T090000
DTEND;TZID=UTC+0:20200411T163000
DTSTAMP:20260424T105852
CREATED:20200118T140951Z
LAST-MODIFIED:20200118T140951Z
UID:2040-1586422800-1586622600@kekbajusz.hu
SUMMARY:Jobb agyféltekés alap rajztanfolyam 12 éves kortól + felnőttek
DESCRIPTION:A tanfolyamon olyan ismereteket tanulsz meg\, melynek segítségével képes leszel élethű rajzokat készíteni.\n\nÉs nem is akármilyet!\n\nA rajzoláshoz minden eszközt én biztosítok.\n\nAmit jó\, ha hozol magaddal:\n– energiapótló ennivaló ( lehet\, hideg\, meleg\, hűtőzni\, melegíteni tudunk )\n– jókedv\, hogy sokat nevessünk\n– kitartás\, hiszen rengeteget fogunk rajzolni\, ám a végén a befektetett munka meghozza gyümölcsét\n– kedvenc játékod\n\nIdőpont: \n2020. április 09-11. (csütörtök – szombat ) 9.00 – kb. 16.30 \nÁra: \n21 000 Ft /fő /3 nap    \nAz ár tartalmazza a rajzoláshoz szükséges eszközöket\, nem tartalmazza az étkezést. \n\n
URL:http://kekbajusz.hu/event/jobb-agyfeltekes-alap-rajztanfolyam-12-eves-kortol-felnottek-2/
ORGANIZER;CN="M%C3%A1th%C3%A9%20T%C3%BCnde":MAILTO:mathetunde5@gmail.com
END:VEVENT
END:VCALENDAR