BEGIN:VCALENDAR
VERSION:2.0
PRODID:-//K&Eacute;K BAJUSZ - ECPv4.6.19//NONSGML v1.0//EN
CALSCALE:GREGORIAN
METHOD:PUBLISH
X-WR-CALNAME:K&Eacute;K BAJUSZ
X-ORIGINAL-URL:http://kekbajusz.hu
X-WR-CALDESC:Events for K&Eacute;K BAJUSZ
BEGIN:VEVENT
DTSTART;TZID=UTC+0:20190712T090000
DTEND;TZID=UTC+0:20190714T170000
DTSTAMP:20260425T030732
CREATED:20190517T200326Z
LAST-MODIFIED:20190517T200326Z
UID:1413-1562922000-1563123600@kekbajusz.hu
SUMMARY:Jobb agyféltekés alap rajztanfolyam felnőtteknek 14 éves kortól
DESCRIPTION:A tanfolyamon olyan ismereteket tanulsz meg\, melynek segítségével képes leszel élethű rajzokat készíteni.\n\nÉs nem is akármilyet!\n\nA rajzoláshoz minden eszközt én biztosítok.\n\nAmit jó\, ha hozol magaddal:\n– energiapótló ennivaló ( lehet\, hideg\, meleg\, hűtőzni\, melegíteni tudunk )\n– jókedv\, hogy sokat nevessünk\n– kitartás\, hiszen rengeteget fogunk rajzolni\, ám a végén a befektetett munka meghozza gyümölcsét\n– kedvenc játékod\n\nIdőpont: \n2019. július 12-14. (péntek – vasárnap ) 9.00 – kb. 17.00 \nÁra: \n21 000 Ft /fő /3 nap    \nAz ár tartalmazza a rajzoláshoz szükséges eszközöket\, nem tartalmazza az étkezést. \n\n
URL:http://kekbajusz.hu/event/jobb-agyfeltekes-alap-rajztanfolyam-felnotteknek-14-eves-kortol/
ORGANIZER;CN="M%C3%A1th%C3%A9%20T%C3%BCnde":MAILTO:mathetunde5@gmail.com
END:VEVENT
END:VCALENDAR