BEGIN:VCALENDAR
VERSION:2.0
PRODID:-//K&Eacute;K BAJUSZ - ECPv4.6.19//NONSGML v1.0//EN
CALSCALE:GREGORIAN
METHOD:PUBLISH
X-WR-CALNAME:K&Eacute;K BAJUSZ
X-ORIGINAL-URL:http://kekbajusz.hu
X-WR-CALDESC:Events for K&Eacute;K BAJUSZ
BEGIN:VEVENT
DTSTART;TZID=UTC+0:20181101T090000
DTEND;TZID=UTC+0:20181104T170000
DTSTAMP:20260425T160721
CREATED:20180828T213441Z
LAST-MODIFIED:20181026T154842Z
UID:1121-1541062800-1541350800@kekbajusz.hu
SUMMARY:Jobb agyféltekés alap tanfolyam 12 - 15 éves gyerekeknek
DESCRIPTION:A tanfolyamon olyan ismereteket tanulsz meg\, melynek segítségével képes leszel élethű rajzokat készíteni.\n\nÉs nem is akármilyet!\n\nA rajzoláshoz minden eszközt én biztosítok.\n\nAmit jó\, ha hozol magaddal:\n– energiapótló ennivaló ( lehet\, hideg\, meleg\, hűtőzni\, melegíteni tudunk )\n– jókedv\, hogy sokat nevessünk\n– kitartás\, hiszen rengeteget fogunk rajzolni\, ám a végén a befektetett munka meghozza gyümölcsét\n– kedvenc játékod\n\nIdőpont: \n2018. november 01 – 02. és 04.( csütörtök – péntek és vasárnap ) 9.00 – 17.00 \nÁra: \n19 000 Ft /fő /3 nap    \nAz ár tartalmazza a rajzoláshoz szükséges eszközöket\, nem tartalmazza az étkezést. \nJELENTKEZÉS \n\n\n
URL:http://kekbajusz.hu/event/jobb-agyfeltekes-alap-tanfolyam-12-15-eves-gyerekeknek/
ORGANIZER;CN="M%C3%A1th%C3%A9%20T%C3%BCnde":MAILTO:mathetunde5@gmail.com
END:VEVENT
END:VCALENDAR