BEGIN:VCALENDAR
VERSION:2.0
PRODID:-//K&Eacute;K BAJUSZ - ECPv4.6.19//NONSGML v1.0//EN
CALSCALE:GREGORIAN
METHOD:PUBLISH
X-WR-CALNAME:K&Eacute;K BAJUSZ
X-ORIGINAL-URL:http://kekbajusz.hu
X-WR-CALDESC:Events for K&Eacute;K BAJUSZ
BEGIN:VEVENT
DTSTART;TZID=UTC+0:20181228T090000
DTEND;TZID=UTC+0:20181230T170000
DTSTAMP:20260425T142645
CREATED:20180828T213609Z
LAST-MODIFIED:20181026T154503Z
UID:1123-1545987600-1546189200@kekbajusz.hu
SUMMARY:Családi jobb agyféltekés alap tanfolyam 12 éves kortól ( felnőtteknek is )
DESCRIPTION:Ünnepi közös rajzolás!\n\nA tanfolyamon olyan ismereteket tanulsz meg\, melynek segítségével képes leszel élethű rajzokat készíteni.\n\nÉs nem is akármilyet!\n\nA rajzoláshoz minden eszközt én biztosítok.\n\nAmit jó\, ha hozol magaddal:\n– energiapótló ennivaló ( lehet\, hideg\, meleg\, hűtőzni\, melegíteni tudunk )\n– jókedv\, hogy sokat nevessünk\n– kitartás\, hiszen rengeteget fogunk rajzolni\, ám a végén a befektetett munka meghozza gyümölcsét\n– kedvenc játékod\n\nIdőpont: \n2018. december 28 – 30. ( péntek – vasárnap ) 9.00 – 17.00 \n Ára:\n19 000 Ft /fő /3 nap ( ha egyedül érkezel )\n18 000 Ft /fő /3 nap ( ha hozol egy családtagot\, barátot )\n17 500 Ft /fő / 3 nap ( ha legalább hárman vagy többen jöttök ) \nAz ár tartalmazza a rajzoláshoz szükséges eszközöket\, nem tartalmazza az étkezést. \nJELENTKEZÉS \n\n
URL:http://kekbajusz.hu/event/jobb-agyfeltekes-alap-tanfolyam-3/
ORGANIZER;CN="M%C3%A1th%C3%A9%20T%C3%BCnde":MAILTO:mathetunde5@gmail.com
END:VEVENT
END:VCALENDAR