BEGIN:VCALENDAR
VERSION:2.0
PRODID:-//K&Eacute;K BAJUSZ - ECPv4.6.19//NONSGML v1.0//EN
CALSCALE:GREGORIAN
METHOD:PUBLISH
X-WR-CALNAME:K&Eacute;K BAJUSZ
X-ORIGINAL-URL:http://kekbajusz.hu
X-WR-CALDESC:Events for K&Eacute;K BAJUSZ
BEGIN:VEVENT
DTSTART;TZID=UTC+0:20200720T090000
DTEND;TZID=UTC+0:20200724T160000
DTSTAMP:20260424T074956
CREATED:20200901T103402Z
LAST-MODIFIED:20200901T103402Z
UID:2356-1595235600-1595606400@kekbajusz.hu
SUMMARY:Jobb agyféltekés rajz + színes + alkotó hét (10 -14 éves gyerekeknek)
DESCRIPTION:\nErre a hétre azokat a gyerekeket várom\, akik már voltak jobb agyféltekés alap tanfolyamon vagy rendelkeznek némi rajztudással\,  szeretnének gyakorolni\, új technikákat megtanulni\, színes képeket alkotni.\nA rajzoláshoz minden eszközt én biztosítok.\n\nAmit jó\, ha hozol magaddal:\n– energiapótló ennivaló ( lehet\, hideg\, meleg\, hűtőzni\, melegíteni tudunk )\n– jókedv\, hogy sokat nevessünk\n– kitartás\, hiszen rengeteget fogunk rajzolni\, ám a végén a befektetett munka meghozza gyümölcsét\n– kedvenc játékod\n\nIdőpont: \n2020. július 20-24. (hétfő – péntek ) 9.00 – kb. 16.00 \nÁra: \n33 000 Ft /fő /5 nap    \nAz ár tartalmazza a rajzoláshoz szükséges eszközöket\, nem tartalmazza az étkezést. \n\n
URL:http://kekbajusz.hu/event/jobb-agyfeltekes-rajz-szines-alkoto-het-10-14-eves-gyerekeknek/
ORGANIZER;CN="M%C3%A1th%C3%A9%20T%C3%BCnde":MAILTO:mathetunde5@gmail.com
END:VEVENT
END:VCALENDAR