BEGIN:VCALENDAR
VERSION:2.0
PRODID:-//K&Eacute;K BAJUSZ - ECPv4.6.19//NONSGML v1.0//EN
CALSCALE:GREGORIAN
METHOD:PUBLISH
X-WR-CALNAME:K&Eacute;K BAJUSZ
X-ORIGINAL-URL:http://kekbajusz.hu
X-WR-CALDESC:Events for K&Eacute;K BAJUSZ
BEGIN:VEVENT
DTSTART;TZID=UTC+0:20211026T090000
DTEND;TZID=UTC+0:20211028T153000
DTSTAMP:20260422T224642
CREATED:20211003T174544Z
LAST-MODIFIED:20220111T160251Z
UID:2691-1635238800-1635435000@kekbajusz.hu
SUMMARY:Jobb agyféltekés rajzolás 12-18 éves gyerekeknek
DESCRIPTION:A rajzoláshoz minden eszközt én biztosítok.\n\nAmit jó\, ha hozol magaddal:\n– energiapótló ennivaló ( lehet\, hideg\, meleg\, hűtőzni\, melegíteni tudunk )\n– jókedv\, hogy sokat nevessünk\n– kitartás\, hiszen rengeteget fogunk rajzolni\, ám a végén a befektetett munka meghozza gyümölcsét\n– kedvenc játékod\n\nIdőpont: \n2021. október 26 – 28. (kedd-csütörtök) 9.00 – kb. 15.30 \nÁra: \n27 000 Ft /fő /3 nap    \nAz ár tartalmazza a rajzoláshoz szükséges eszközöket\, nem tartalmazza az étkezést. \n\n
URL:http://kekbajusz.hu/event/jobb-agyfeltekes-rajztanfolyam-12-18-eves-gyerekeknek/
ORGANIZER;CN="M%C3%A1th%C3%A9%20T%C3%BCnde":MAILTO:mathetunde5@gmail.com
END:VEVENT
END:VCALENDAR