BEGIN:VCALENDAR
VERSION:2.0
PRODID:-//K&Eacute;K BAJUSZ - ECPv4.6.19//NONSGML v1.0//EN
CALSCALE:GREGORIAN
METHOD:PUBLISH
X-WR-CALNAME:K&Eacute;K BAJUSZ
X-ORIGINAL-URL:http://kekbajusz.hu
X-WR-CALDESC:Events for K&Eacute;K BAJUSZ
BEGIN:VEVENT
DTSTART;TZID=UTC+0:20210401T090000
DTEND;TZID=UTC+0:20210403T163000
DTSTAMP:20260423T052339
CREATED:20210105T161717Z
LAST-MODIFIED:20220111T160619Z
UID:2553-1617267600-1617467400@kekbajusz.hu
SUMMARY:Jobb agyféltekés rajzolás 12 éves kortól
DESCRIPTION:\n(vírushelyzet miatt ELMARAD!)\n\nA rajzoláshoz minden eszközt én biztosítok.\n\nAmit jó\, ha hozol magaddal:\n– energiapótló ennivaló ( lehet\, hideg\, meleg\, hűtőzni\, melegíteni tudunk )\n– jókedv\, hogy sokat nevessünk\n– kitartás\, hiszen rengeteget fogunk rajzolni\, ám a végén a befektetett munka meghozza gyümölcsét\n– kedvenc játékod\n\nIdőpont: \n2021. április 01-03. (csütörtök – szombat ) 9.00 – kb. 16.30 \nÁra: \n24 000 Ft /fő /3 nap    \nAz ár tartalmazza a rajzoláshoz szükséges eszközöket\, nem tartalmazza az étkezést. \n\n\n\n
URL:http://kekbajusz.hu/event/jobb-agyfeltekes-rajztanfolyam-12-eves-kortol-2/
ORGANIZER;CN="M%C3%A1th%C3%A9%20T%C3%BCnde":MAILTO:mathetunde5@gmail.com
END:VEVENT
END:VCALENDAR