BEGIN:VCALENDAR
VERSION:2.0
PRODID:-//K&Eacute;K BAJUSZ - ECPv4.6.19//NONSGML v1.0//EN
CALSCALE:GREGORIAN
METHOD:PUBLISH
X-WR-CALNAME:K&Eacute;K BAJUSZ
X-ORIGINAL-URL:http://kekbajusz.hu
X-WR-CALDESC:Events for K&Eacute;K BAJUSZ
BEGIN:VEVENT
DTSTART;TZID=UTC+0:20211204T143000
DTEND;TZID=UTC+0:20211204T190000
DTSTAMP:20260422T180207
CREATED:20211107T121731Z
LAST-MODIFIED:20211107T121731Z
UID:2709-1638628200-1638644400@kekbajusz.hu
SUMMARY:Karácsonyi képeslap festés
DESCRIPTION:KARÁCSONYI KÉPESLAP FESTÉS \nSzerezz örömet szeretteidnek saját kézzel festett képeslapok küldésével! \n\ndecember 04. (szombat) 14.30 – 19.00\nMinden eszközt biztosítok. Az elkészült képeslapok elvihetőek.\n\nÁra: 5 000 Ft/alkalom \n
URL:http://kekbajusz.hu/event/karacsonyi-kepeslap-festes-2/
ORGANIZER;CN="M%C3%A1th%C3%A9%20T%C3%BCnde":MAILTO:mathetunde5@gmail.com
END:VEVENT
END:VCALENDAR