BEGIN:VCALENDAR
VERSION:2.0
PRODID:-//K&Eacute;K BAJUSZ - ECPv4.6.19//NONSGML v1.0//EN
CALSCALE:GREGORIAN
METHOD:PUBLISH
X-WR-CALNAME:K&Eacute;K BAJUSZ
X-ORIGINAL-URL:http://kekbajusz.hu
X-WR-CALDESC:Events for K&Eacute;K BAJUSZ
BEGIN:VEVENT
DTSTART;TZID=UTC+0:20191130T150000
DTEND;TZID=UTC+0:20191130T190000
DTSTAMP:20260424T191640
CREATED:20191114T183710Z
LAST-MODIFIED:20191114T183905Z
UID:1982-1575126000-1575140400@kekbajusz.hu
SUMMARY:Karácsonyi képeslap festés
DESCRIPTION:Közeledik a karácsony! Ti örülnétek\, ha SMS vagy messenger üzenet helyett saját festésű karácsonyi képeslappal köszöntenének szeretteid az ünnep alkalmával? Ha igen\, akkor várlak karácsonyi képeslapfestő délutánunkon. Lepd meg Te is szeretteidet általad festett képeslappal!\nTechnika: akvarell\, tus\, akril\n\nIdeje: 2019. november 30. ( szombat ) 15.00 – 19.00 óráig\nÁra: 5 000 Ft / fő / 4 képeslap\nAz általad készített képeslapok természetesen elvihetőek.\n\nElőzetes bejelentkezés szükséges!\n
URL:http://kekbajusz.hu/event/karacsonyi-kepeslap-festes/
ORGANIZER;CN="M%C3%A1th%C3%A9%20T%C3%BCnde":MAILTO:mathetunde5@gmail.com
END:VEVENT
END:VCALENDAR