BEGIN:VCALENDAR
VERSION:2.0
PRODID:-//K&Eacute;K BAJUSZ - ECPv4.6.19//NONSGML v1.0//EN
CALSCALE:GREGORIAN
METHOD:PUBLISH
X-WR-CALNAME:K&Eacute;K BAJUSZ
X-ORIGINAL-URL:http://kekbajusz.hu
X-WR-CALDESC:Events for K&Eacute;K BAJUSZ
BEGIN:VEVENT
DTSTART;TZID=UTC+0:20200803T090000
DTEND;TZID=UTC+0:20200807T163000
DTSTAMP:20260424T062616
CREATED:20200901T104641Z
LAST-MODIFIED:20200901T104641Z
UID:2360-1596445200-1596817800@kekbajusz.hu
SUMMARY:Kreatív tábor 8-12 éves gyerekeknek
DESCRIPTION:Program: \n\nélményfestés\nkülönböző színes technika kipróbálása\nagyagozás\nkirándulás\njáték\nmóka\, kacagás\n\nA tábor családias\, maximális létszám 10 fő. \nIdőpont: \n \n2020. augusztus 03 – 07. ( hétfő – péntek ) 9.00 – 16.30 \nJelentkezési határidő: 2020. július 17. \nA részvételi hely biztosítása jelentkezési sorrendben történik. \nÁra: 29 500 Ft/ 5 nap\n(visszajáróknak\, szakkörösöknek kedvezmény!) \nAz ár tartalmaz napi 3-szori étkezést és az alkotáshoz szükséges kellékeket. \nHelyszín: 2112 Veresegyház\, Fő út 116. \n
URL:http://kekbajusz.hu/event/kreativ-tabor-8-12-eves-gyerekeknek/
ORGANIZER;CN="M%C3%A1th%C3%A9%20T%C3%BCnde":MAILTO:mathetunde5@gmail.com
END:VEVENT
END:VCALENDAR