BEGIN:VCALENDAR
VERSION:2.0
PRODID:-//K&Eacute;K BAJUSZ - ECPv4.6.19//NONSGML v1.0//EN
CALSCALE:GREGORIAN
METHOD:PUBLISH
X-WR-CALNAME:K&Eacute;K BAJUSZ
X-ORIGINAL-URL:http://kekbajusz.hu
X-WR-CALDESC:Events for K&Eacute;K BAJUSZ
BEGIN:VEVENT
DTSTART;TZID=UTC+0:20191005T100000
DTEND;TZID=UTC+0:20191005T190000
DTSTAMP:20260424T221743
CREATED:20190907T170635Z
LAST-MODIFIED:20190907T170635Z
UID:1741-1570269600-1570302000@kekbajusz.hu
SUMMARY:Látogatás a Magyar Nemzeti Galériába
DESCRIPTION:Közösen beutazunk Budapestre a Magyar Nemzeti Galériába\, ahol megnézzük “A szürrealista mozgalom Dalítól Magritte-ig” című kiállítást. \nVégignézzük az állandó kiállítás alkotásait\, s a kedvenc képekről\, szobrokról vázlatokat\, rajzokat készítünk. \n
URL:http://kekbajusz.hu/event/latogatas-a-magyar-nemzeti-galeriaba/
LOCATION:Magyarország
ORGANIZER;CN="M%C3%A1th%C3%A9%20T%C3%BCnde":MAILTO:mathetunde5@gmail.com
END:VEVENT
END:VCALENDAR