BEGIN:VCALENDAR
VERSION:2.0
PRODID:-//K&Eacute;K BAJUSZ - ECPv4.6.19//NONSGML v1.0//EN
CALSCALE:GREGORIAN
METHOD:PUBLISH
X-WR-CALNAME:K&Eacute;K BAJUSZ
X-ORIGINAL-URL:http://kekbajusz.hu
X-WR-CALDESC:Events for K&Eacute;K BAJUSZ
BEGIN:VEVENT
DTSTART;TZID=UTC+0:20191214T150000
DTEND;TZID=UTC+0:20191214T200000
DTSTAMP:20260424T190849
CREATED:20190907T175205Z
LAST-MODIFIED:20190907T175205Z
UID:1764-1576335600-1576353600@kekbajusz.hu
SUMMARY:Művészi kifejezőerő fejlesztés
DESCRIPTION:Alkoss szabadon\, és megváltozik körülötted a világ! \nAlkotás versre\, zenére (4-6 fő)\n(akvarell\, pasztell\, ceruza\, szén\, tus\, agyag\, montázs\, kollázs)\nrajztudás nem szükséges \nÁra: 5 000 Ft/alkalom – eszközök biztosításával \n
URL:http://kekbajusz.hu/event/muveszi-kifejezoero-fejlesztes-4/
ORGANIZER;CN="M%C3%A1th%C3%A9%20T%C3%BCnde":MAILTO:mathetunde5@gmail.com
END:VEVENT
END:VCALENDAR