BEGIN:VCALENDAR
VERSION:2.0
PRODID:-//K&Eacute;K BAJUSZ - ECPv4.6.19//NONSGML v1.0//EN
CALSCALE:GREGORIAN
METHOD:PUBLISH
X-WR-CALNAME:K&Eacute;K BAJUSZ
X-ORIGINAL-URL:http://kekbajusz.hu
X-WR-CALDESC:Events for K&Eacute;K BAJUSZ
BEGIN:VEVENT
DTSTART;TZID=UTC+0:20180716T083000
DTEND;TZID=UTC+0:20180720T163000
DTSTAMP:20260425T224212
CREATED:20180706T074330Z
LAST-MODIFIED:20180706T111132Z
UID:849-1531729800-1532104200@kekbajusz.hu
SUMMARY:Rajzos alkotó tábor 8-10 éves gyerekeknek
DESCRIPTION:Program: \n\na valósághű rajzolás első lépései\nélményfestés\nkülönböző színes technika kipróbálása\nagyagozás\nkirándulás\njáték\nmóka\, kacagás\n\nJelentkezési határidő: 2018. június 30. \nAz ár tartalmaz napi 3-szori étkezést\, és az alkotáshoz szükséges kellékeket. \n
URL:http://kekbajusz.hu/event/rajzos-alkoto-tabor-8-10-eves-gyerekeknek/
LOCATION:Fő út 116.\, Veresegyház\, 2112
ORGANIZER;CN="M%C3%A1th%C3%A9%20T%C3%BCnde":MAILTO:mathetunde5@gmail.com
END:VEVENT
END:VCALENDAR