BEGIN:VCALENDAR
VERSION:2.0
PRODID:-//K&Eacute;K BAJUSZ - ECPv4.6.19//NONSGML v1.0//EN
CALSCALE:GREGORIAN
METHOD:PUBLISH
X-WR-CALNAME:K&Eacute;K BAJUSZ
X-ORIGINAL-URL:http://kekbajusz.hu
X-WR-CALDESC:Events for K&Eacute;K BAJUSZ
BEGIN:VEVENT
DTSTART;TZID=UTC+0:20190213T150000
DTEND;TZID=UTC+0:20190213T200000
DTSTAMP:20260425T105757
CREATED:20190121T203201Z
LAST-MODIFIED:20190121T203201Z
UID:1300-1550070000-1550088000@kekbajusz.hu
SUMMARY:Rajzszakkör
DESCRIPTION:Jobb agyféltekés és klasszikus módszerek. Személyre szabott. Valósághű rajzok síkban\, térben. Kreativitás fejlesztése\, önkifejezés. Relaxálás. Vidám hangulat. \nTechnikák: \n\ngrafit\nszén\nszínes ceruza\nakvarell ceruza\nporpasztell\nakril\nagyag\n\nIdőpontok: \n12  éves kortól: \nSzerda 15.00 – 20.00 között bármikor lehet jönni\, ha van időtök végig lehet rajzolni\, de legalább másfél órában kell gondolkodni\nÁra: 2500 Ft/alkalom ( fekete – fehér)\n2500 Ft/alkalom ( színes – saját eszközökkel  )\n\n3000 Ft/alkalom ( színes – én biztosítom az eszközöket: ceruza-pasztell-akril \n\n
URL:http://kekbajusz.hu/event/rajzszakkor-4/
ORGANIZER;CN="M%C3%A1th%C3%A9%20T%C3%BCnde":MAILTO:mathetunde5@gmail.com
END:VEVENT
END:VCALENDAR