BEGIN:VCALENDAR
VERSION:2.0
PRODID:-//K&Eacute;K BAJUSZ - ECPv4.6.19//NONSGML v1.0//EN
CALSCALE:GREGORIAN
METHOD:PUBLISH
X-WR-CALNAME:K&Eacute;K BAJUSZ
X-ORIGINAL-URL:http://kekbajusz.hu
X-WR-CALDESC:Events for K&Eacute;K BAJUSZ
BEGIN:VEVENT
DTSTART;TZID=UTC+0:20190913T163000
DTEND;TZID=UTC+0:20190913T180000
DTSTAMP:20260424T235603
CREATED:20190907T180753Z
LAST-MODIFIED:20190907T181013Z
UID:1774-1568392200-1568397600@kekbajusz.hu
SUMMARY:Rajzszakkör 8 - 11 éves gyerekeknek
DESCRIPTION:
URL:http://kekbajusz.hu/event/rajzszakkor-8-11-eves-gyerekeknek/
ORGANIZER;CN="M%C3%A1th%C3%A9%20T%C3%BCnde":MAILTO:mathetunde5@gmail.com
END:VEVENT
END:VCALENDAR