BEGIN:VCALENDAR
VERSION:2.0
PRODID:-//K&Eacute;K BAJUSZ - ECPv4.6.19//NONSGML v1.0//EN
CALSCALE:GREGORIAN
METHOD:PUBLISH
X-WR-CALNAME:K&Eacute;K BAJUSZ
X-ORIGINAL-URL:http://kekbajusz.hu
X-WR-CALDESC:Events for K&Eacute;K BAJUSZ
BEGIN:VEVENT
DTSTART;TZID=UTC+0:20191028T090000
DTEND;TZID=UTC+0:20191030T170000
DTSTAMP:20260424T203751
CREATED:20190907T174052Z
LAST-MODIFIED:20190907T174052Z
UID:1752-1572253200-1572454800@kekbajusz.hu
SUMMARY:Színes (akril és/vagy pasztell) jobb agyféltekés tanfolyam
DESCRIPTION:A színes tanfolyamra sok szeretettel várom a jobb agyféltekés alap tanfolyamot végzetteket és a rajzolás terén már jártasságot szerzett érdeklődőket. \nMit tanulunk? \n\naz első napon színelmélettel foglalkozunk ( színkör\, színárnyalat\, érték\, intenzitás meghatározása\, színek kikeverése )\nmásodik-harmadik nap alkotás akrillal vagy pasztellel – egyéni igény szerint\n\nHogyan telik egy nap? \nDélelőtt és délután is festünk/pasztellezünk. \nEbédidő 1 óra. Mindenki a maga által hozott ennivalót fogyasztja. ( Lehet hideg\, meleg\, hűtőzési\, melegítési lehetőség van) \nIdőpont: \n2019. október 28 – 30. ( hétfő – szerda ) 9.00-17.00 \nÁra:  \n27 000 Ft /fő\n24 000 Ft /fő – a Kék Bajuszban alap tanfolyamot végzetteknek \nAz ár tartalmazza az eszközöket. Az elkészült képek hazavihetőek. \nEnnivalóról mindenki magának gondoskodik. \n
URL:http://kekbajusz.hu/event/szines-akril-es-vagy-pasztell-jobb-agyfeltekes-tanfolyam/
ORGANIZER;CN="M%C3%A1th%C3%A9%20T%C3%BCnde":MAILTO:mathetunde5@gmail.com
END:VEVENT
END:VCALENDAR