BEGIN:VCALENDAR
VERSION:2.0
PRODID:-//K&Eacute;K BAJUSZ - ECPv4.6.19//NONSGML v1.0//EN
CALSCALE:GREGORIAN
METHOD:PUBLISH
X-WR-CALNAME:K&Eacute;K BAJUSZ
X-ORIGINAL-URL:http://kekbajusz.hu
X-WR-CALDESC:Events for K&Eacute;K BAJUSZ
BEGIN:VEVENT
DTSTART;TZID=UTC+0:20181117T093000
DTEND;TZID=UTC+0:20181118T170000
DTSTAMP:20260425T160339
CREATED:20180928T185607Z
LAST-MODIFIED:20180928T185607Z
UID:1159-1542447000-1542560400@kekbajusz.hu
SUMMARY:Színes tanfolyam 13 éves kortól ( felnőtteknek is )
DESCRIPTION:A színes tanfolyamra sok szeretettel várom a jobb agyféltekés alap tanfolyamot végzetteket és a rajzolás terén már jártasságot szerzett érdeklődőket. \nMit tanulunk? \n\naz első napon színelmélettel foglalkozunk ( színkör\, színárnyalat\, érték\, intenzitás meghatározása\, színek kikeverése )\nmásodik-harmadik nap alkotás akrillal vagy pasztellel – egyéni igény szerint\nnegyedik nap már szabadon választható ( újabb kép a már megismert technikával\, a másik technika kipróbálása )\n\nHogyan telik egy nap? \nDélelőtt és délután is festünk/pasztellezünk. \nEbédidő 1 óra. Mindenki a maga által hozott ennivalót fogyasztja. ( Lehet hideg\, meleg\, hűtőzési\, melegítési lehetőség van) \nIdőpontok: \na tanfolyam 3 vagy 4 napos \n2018. november 17-18. és 24/25 ( szombat-vasárnap ) 9.30-17.00 \nAz első két napon kötelező a részvétel\, a második kettőből szabadon lehet választani egyet\, de természetesen mindkettőn is részt lehet venni. \nÁra: 7500 /fő /nap  \n3 nap: 22500 Ft/fő \n4 nap: 28000 Ft/fő \nAz ár tartalmazza az eszközöket. Az elkészült képek hazavihetőek. \nEnnivalóról mindenki magának gondoskodik. \n
URL:http://kekbajusz.hu/event/szines-tanfolyam-13-eves-kortol-felnotteknek-is/
ORGANIZER;CN="M%C3%A1th%C3%A9%20T%C3%BCnde":MAILTO:mathetunde5@gmail.com
END:VEVENT
END:VCALENDAR